BEGIN:VCALENDAR
VERSION:2.0
PRODID:-//Contratero//ES
CALSCALE:GREGORIAN
METHOD:PUBLISH
BEGIN:VEVENT
UID:Expte. Serv. 006/2025@contratero.es
DTSTAMP:20260423T041724Z
DTSTART:20260203T235959
DTEND:20260204T005959
SUMMARY:Cierre: Elaboración de contenido para la plataforma digita
DESCRIPTION:Elaboración de contenido para la plataforma digital integral de Transparencia y Servicio al usuario del ciclo urbano del ciclo urbano del Agua. “TEIDAGUA DIGITAL” (PERTE “AQUAFUTURE LA LAGUNA” – ACTUA...\\n\\nOrganismo: Dirección Gerente de Teidagua\, S.A.\\n\\nVer en Contratero: https://contratero.es/contracts/Expte. Serv. 006/2025
URL:https://contratero.es/contracts/Expte. Serv. 006/2025
STATUS:CONFIRMED
BEGIN:VALARM
TRIGGER:-P1D
ACTION:DISPLAY
DESCRIPTION:Recordatorio: Elaboración de contenido para 
END:VALARM
END:VEVENT
END:VCALENDAR